BEGIN:VCALENDAR
VERSION:2.0
PRODID:JMS Hockey
X-PUBLISHED-TTL:P1W
BEGIN:VEVENT
UID:69e7c3471c360
DTSTART:20120721T003000Z
SEQUENCE:0
TRANSP:OPAQUE
DTEND:20120721T020000Z
URL:http://jmshockey.com/games/3941
LOCATION:Eden Prairie Comm Ctr
SUMMARY:Level 2 Game at Eden Prairie Comm Ctr
CLASS:PUBLIC
DTSTAMP:20260421T133447Z
END:VEVENT
END:VCALENDAR