BEGIN:VCALENDAR
VERSION:2.0
PRODID:JMS Hockey
X-PUBLISHED-TTL:P1W
BEGIN:VEVENT
UID:69e799c9a262f
DTSTART:20120505T021500Z
SEQUENCE:0
TRANSP:OPAQUE
DTEND:20120505T034500Z
URL:http://jmshockey.com/games/3932
LOCATION:Eden Prairie Comm Ctr
SUMMARY:Level 2 Game at Eden Prairie Comm Ctr
CLASS:PUBLIC
DTSTAMP:20260421T103745Z
END:VEVENT
END:VCALENDAR