BEGIN:VCALENDAR
VERSION:2.0
PRODID:JMS Hockey
X-PUBLISHED-TTL:P1W
BEGIN:VEVENT
UID:69e7cadfc1f7e
DTSTART:20120823T023000Z
SEQUENCE:0
TRANSP:OPAQUE
DTEND:20120823T040000Z
URL:http://jmshockey.com/games/3926
LOCATION:Minnetonka Ice Arena
SUMMARY:Lower Level Game at Minnetonka Ice Arena
CLASS:PUBLIC
DTSTAMP:20260421T140711Z
END:VEVENT
END:VCALENDAR