BEGIN:VCALENDAR
VERSION:2.0
PRODID:JMS Hockey
X-PUBLISHED-TTL:P1W
BEGIN:VEVENT
UID:69e7ef9881806
DTSTART:20120809T023000Z
SEQUENCE:0
TRANSP:OPAQUE
DTEND:20120809T040000Z
URL:http://jmshockey.com/games/3924
LOCATION:Minnetonka Ice Arena
SUMMARY:Lower Level Game at Minnetonka Ice Arena
CLASS:PUBLIC
DTSTAMP:20260421T164352Z
END:VEVENT
END:VCALENDAR