BEGIN:VCALENDAR
VERSION:2.0
PRODID:JMS Hockey
X-PUBLISHED-TTL:P1W
BEGIN:VEVENT
UID:69e7c346232df
DTSTART:20120712T013000Z
SEQUENCE:0
TRANSP:OPAQUE
DTEND:20120712T030000Z
URL:http://jmshockey.com/games/3920
LOCATION:Minnetonka Ice Arena
SUMMARY:Lower Level Game at Minnetonka Ice Arena
CLASS:PUBLIC
DTSTAMP:20260421T133446Z
END:VEVENT
END:VCALENDAR