BEGIN:VCALENDAR
VERSION:2.0
PRODID:JMS Hockey
X-PUBLISHED-TTL:P1W
BEGIN:VEVENT
UID:69e7b9b397603
DTSTART:20120628T013000Z
SEQUENCE:0
TRANSP:OPAQUE
DTEND:20120628T030000Z
URL:http://jmshockey.com/games/3919
LOCATION:Minnetonka Ice Arena
SUMMARY:Lower Level Game at Minnetonka Ice Arena
CLASS:PUBLIC
DTSTAMP:20260421T125355Z
END:VEVENT
END:VCALENDAR