BEGIN:VCALENDAR
VERSION:2.0
PRODID:JMS Hockey
X-PUBLISHED-TTL:P1W
BEGIN:VEVENT
UID:69e7ada453694
DTSTART:20120614T013000Z
SEQUENCE:0
TRANSP:OPAQUE
DTEND:20120614T030000Z
URL:http://jmshockey.com/games/3917
LOCATION:Minnetonka Ice Arena
SUMMARY:Lower Level Game at Minnetonka Ice Arena
CLASS:PUBLIC
DTSTAMP:20260421T120228Z
END:VEVENT
END:VCALENDAR