BEGIN:VCALENDAR
VERSION:2.0
PRODID:JMS Hockey
X-PUBLISHED-TTL:P1W
BEGIN:VEVENT
UID:69e7d49ac0a3d
DTSTART:20120607T013000Z
SEQUENCE:0
TRANSP:OPAQUE
DTEND:20120607T030000Z
URL:http://jmshockey.com/games/3916
LOCATION:Minnetonka Ice Arena
SUMMARY:Lower Level Game at Minnetonka Ice Arena
CLASS:PUBLIC
DTSTAMP:20260421T144842Z
END:VEVENT
END:VCALENDAR