BEGIN:VCALENDAR
VERSION:2.0
PRODID:JMS Hockey
X-PUBLISHED-TTL:P1W
BEGIN:VEVENT
UID:69e7a73fcbe80
DTSTART:20120306T024000Z
SEQUENCE:0
TRANSP:OPAQUE
DTEND:20120306T041000Z
URL:http://jmshockey.com/games/3912
LOCATION:Doug Woog Arena (Wakota)
SUMMARY:Lower Level Game at Doug Woog Arena (Wakota)
CLASS:PUBLIC
DTSTAMP:20260421T113511Z
END:VEVENT
END:VCALENDAR