BEGIN:VCALENDAR
VERSION:2.0
PRODID:JMS Hockey
X-PUBLISHED-TTL:P1W
BEGIN:VEVENT
UID:69e78397b5b3d
DTSTART:20120828T004500Z
SEQUENCE:0
TRANSP:OPAQUE
DTEND:20120828T021500Z
URL:http://jmshockey.com/games/3907
LOCATION:Breck Anderson Arena
SUMMARY:Lower Level Game at Breck Anderson Arena
CLASS:PUBLIC
DTSTAMP:20260421T090303Z
END:VEVENT
END:VCALENDAR