BEGIN:VCALENDAR
VERSION:2.0
PRODID:JMS Hockey
X-PUBLISHED-TTL:P1W
BEGIN:VEVENT
UID:69e7b97de7d8d
DTSTART:20120809T004500Z
SEQUENCE:0
TRANSP:OPAQUE
DTEND:20120809T021500Z
URL:http://jmshockey.com/games/3904
LOCATION:Breck Anderson Arena
SUMMARY:Upper Level Game at Breck Anderson Arena
CLASS:PUBLIC
DTSTAMP:20260421T125301Z
END:VEVENT
END:VCALENDAR