BEGIN:VCALENDAR
VERSION:2.0
PRODID:JMS Hockey
X-PUBLISHED-TTL:P1W
BEGIN:VEVENT
UID:69e7d4752ae3e
DTSTART:20120807T023000Z
SEQUENCE:0
TRANSP:OPAQUE
DTEND:20120807T040000Z
URL:http://jmshockey.com/games/3903
LOCATION:Breck Anderson Arena
SUMMARY:Lower Level Game at Breck Anderson Arena
CLASS:PUBLIC
DTSTAMP:20260421T144805Z
END:VEVENT
END:VCALENDAR