BEGIN:VCALENDAR
VERSION:2.0
PRODID:JMS Hockey
X-PUBLISHED-TTL:P1W
BEGIN:VEVENT
UID:69e7e68e0e443
DTSTART:20090317T010000Z
SEQUENCE:0
TRANSP:OPAQUE
DTEND:20090317T023000Z
URL:http://jmshockey.com/games/389
LOCATION:St. Paul Academy Drake
SUMMARY:Level 3 Game at St. Paul Academy Drake
CLASS:PUBLIC
DTSTAMP:20260421T160518Z
END:VEVENT
END:VCALENDAR