BEGIN:VCALENDAR
VERSION:2.0
PRODID:JMS Hockey
X-PUBLISHED-TTL:P1W
BEGIN:VEVENT
UID:69e7c6fa202f7
DTSTART:20120608T023000Z
SEQUENCE:0
TRANSP:OPAQUE
DTEND:20120608T040000Z
URL:http://jmshockey.com/games/3889
LOCATION:Breck Anderson Arena
SUMMARY:All level Game at Breck Anderson Arena
CLASS:PUBLIC
DTSTAMP:20260421T135034Z
END:VEVENT
END:VCALENDAR