BEGIN:VCALENDAR
VERSION:2.0
PRODID:JMS Hockey
X-PUBLISHED-TTL:P1W
BEGIN:VEVENT
UID:69e7c362c80d4
DTSTART:20120525T023000Z
SEQUENCE:0
TRANSP:OPAQUE
DTEND:20120525T040000Z
URL:http://jmshockey.com/games/3887
LOCATION:Breck Anderson Arena
SUMMARY:All level Game at Breck Anderson Arena
CLASS:PUBLIC
DTSTAMP:20260421T133514Z
END:VEVENT
END:VCALENDAR