BEGIN:VCALENDAR
VERSION:2.0
PRODID:JMS Hockey
X-PUBLISHED-TTL:P1W
BEGIN:VEVENT
UID:69e7d802da12c
DTSTART:20090317T004500Z
SEQUENCE:0
TRANSP:OPAQUE
DTEND:20090317T021500Z
URL:http://jmshockey.com/games/387
LOCATION:Minnetonka Ice Arena
SUMMARY:Level 1 Game at Minnetonka Ice Arena
CLASS:PUBLIC
DTSTAMP:20260421T150314Z
END:VEVENT
END:VCALENDAR