BEGIN:VCALENDAR
VERSION:2.0
PRODID:JMS Hockey
X-PUBLISHED-TTL:P1W
BEGIN:VEVENT
UID:69e799f70b175
DTSTART:20120501T011500Z
SEQUENCE:0
TRANSP:OPAQUE
DTEND:20120501T024500Z
URL:http://jmshockey.com/games/3865
LOCATION:Minnetonka Ice Arena
SUMMARY:Level 2 Game at Minnetonka Ice Arena
CLASS:PUBLIC
DTSTAMP:20260421T103831Z
END:VEVENT
END:VCALENDAR