BEGIN:VCALENDAR
VERSION:2.0
PRODID:JMS Hockey
X-PUBLISHED-TTL:P1W
BEGIN:VEVENT
UID:69e799f504915
DTSTART:20121229T021500Z
SEQUENCE:0
TRANSP:OPAQUE
DTEND:20121229T034500Z
URL:http://jmshockey.com/games/3860
LOCATION:Eden Prairie Comm Ctr
SUMMARY:Lower Level Game at Eden Prairie Comm Ctr
CLASS:PUBLIC
DTSTAMP:20260421T103829Z
END:VEVENT
END:VCALENDAR