BEGIN:VCALENDAR
VERSION:2.0
PRODID:JMS Hockey
X-PUBLISHED-TTL:P1W
BEGIN:VEVENT
UID:69e7d52a86a59
DTSTART:20121121T031500Z
SEQUENCE:0
TRANSP:OPAQUE
DTEND:20121121T044500Z
URL:http://jmshockey.com/games/3851
LOCATION:Eden Prairie Comm Ctr
SUMMARY:Level 3 Game at Eden Prairie Comm Ctr
CLASS:PUBLIC
DTSTAMP:20260421T145106Z
END:VEVENT
END:VCALENDAR