BEGIN:VCALENDAR
VERSION:2.0
PRODID:JMS Hockey
X-PUBLISHED-TTL:P1W
BEGIN:VEVENT
UID:69e7c1244aae7
DTSTART:20121110T033000Z
SEQUENCE:0
TRANSP:OPAQUE
DTEND:20121110T050000Z
URL:http://jmshockey.com/games/3848
LOCATION:Eden Prairie Comm Ctr
SUMMARY:Lower Level Game at Eden Prairie Comm Ctr
CLASS:PUBLIC
DTSTAMP:20260421T132540Z
END:VEVENT
END:VCALENDAR