BEGIN:VCALENDAR
VERSION:2.0
PRODID:JMS Hockey
X-PUBLISHED-TTL:P1W
BEGIN:VEVENT
UID:69e7cac8871f5
DTSTART:20121017T023000Z
SEQUENCE:0
TRANSP:OPAQUE
DTEND:20121017T040000Z
URL:http://jmshockey.com/games/3841
LOCATION:Eden Prairie Comm Ctr
SUMMARY:Level 3 Game at Eden Prairie Comm Ctr
CLASS:PUBLIC
DTSTAMP:20260421T140648Z
END:VEVENT
END:VCALENDAR