BEGIN:VCALENDAR
VERSION:2.0
PRODID:JMS Hockey
X-PUBLISHED-TTL:P1W
BEGIN:VEVENT
UID:69e7e74b569fc
DTSTART:20121013T013000Z
SEQUENCE:0
TRANSP:OPAQUE
DTEND:20121013T030000Z
URL:http://jmshockey.com/games/3840
LOCATION:Eden Prairie Comm Ctr
SUMMARY:Level 2 Game at Eden Prairie Comm Ctr
CLASS:PUBLIC
DTSTAMP:20260421T160827Z
END:VEVENT
END:VCALENDAR