BEGIN:VCALENDAR
VERSION:2.0
PRODID:JMS Hockey
X-PUBLISHED-TTL:P1W
BEGIN:VEVENT
UID:69e7c3666eed6
DTSTART:20121006T011500Z
SEQUENCE:0
TRANSP:OPAQUE
DTEND:20121006T024500Z
URL:http://jmshockey.com/games/3838
LOCATION:Eden Prairie Comm Ctr
SUMMARY:Lower Level Game at Eden Prairie Comm Ctr
CLASS:PUBLIC
DTSTAMP:20260421T133518Z
END:VEVENT
END:VCALENDAR