BEGIN:VCALENDAR
VERSION:2.0
PRODID:JMS Hockey
X-PUBLISHED-TTL:P1W
BEGIN:VEVENT
UID:69e7d4bcba345
DTSTART:20120915T013000Z
SEQUENCE:0
TRANSP:OPAQUE
DTEND:20120915T030000Z
URL:http://jmshockey.com/games/3835
LOCATION:Eden Prairie Comm Ctr
SUMMARY:Lower Level Game at Eden Prairie Comm Ctr
CLASS:PUBLIC
DTSTAMP:20260421T144916Z
END:VEVENT
END:VCALENDAR