BEGIN:VCALENDAR
VERSION:2.0
PRODID:JMS Hockey
X-PUBLISHED-TTL:P1W
BEGIN:VEVENT
UID:69e7cadd7d44c
DTSTART:20120509T020000Z
SEQUENCE:0
TRANSP:OPAQUE
DTEND:20120509T033000Z
URL:http://jmshockey.com/games/3830
LOCATION:Eden Prairie Comm Ctr
SUMMARY:Level 3 Game at Eden Prairie Comm Ctr
CLASS:PUBLIC
DTSTAMP:20260421T140709Z
END:VEVENT
END:VCALENDAR