BEGIN:VCALENDAR
VERSION:2.0
PRODID:JMS Hockey
X-PUBLISHED-TTL:P1W
BEGIN:VEVENT
UID:69e835da3f6a7
DTSTART:20090314T031500Z
SEQUENCE:0
TRANSP:OPAQUE
DTEND:20090314T044500Z
URL:http://jmshockey.com/games/383
LOCATION:St Louis Park Rec Center
SUMMARY:Level 2 Game at St Louis Park Rec Center
CLASS:PUBLIC
DTSTAMP:20260421T214338Z
END:VEVENT
END:VCALENDAR