BEGIN:VCALENDAR
VERSION:2.0
PRODID:JMS Hockey
X-PUBLISHED-TTL:P1W
BEGIN:VEVENT
UID:69e7cb93a3aea
DTSTART:20120404T013000Z
SEQUENCE:0
TRANSP:OPAQUE
DTEND:20120404T030000Z
URL:http://jmshockey.com/games/3822
LOCATION:Eden Prairie Comm Ctr
SUMMARY:Level 3 Game at Eden Prairie Comm Ctr
CLASS:PUBLIC
DTSTAMP:20260421T141011Z
END:VEVENT
END:VCALENDAR