BEGIN:VCALENDAR
VERSION:2.0
PRODID:JMS Hockey
X-PUBLISHED-TTL:P1W
BEGIN:VEVENT
UID:69e7a312a1dba
DTSTART:20120623T020000Z
SEQUENCE:0
TRANSP:OPAQUE
DTEND:20120623T033000Z
URL:http://jmshockey.com/games/3797
LOCATION:Fogerty Icehouse
SUMMARY:All level Game at Fogerty Icehouse
CLASS:PUBLIC
DTSTAMP:20260421T111722Z
END:VEVENT
END:VCALENDAR