BEGIN:VCALENDAR
VERSION:2.0
PRODID:JMS Hockey
X-PUBLISHED-TTL:P1W
BEGIN:VEVENT
UID:69e7c37e96e61
DTSTART:20120620T020000Z
SEQUENCE:0
TRANSP:OPAQUE
DTEND:20120620T033000Z
URL:http://jmshockey.com/games/3795
LOCATION:Fogerty Icehouse
SUMMARY:Upper Level Game at Fogerty Icehouse
CLASS:PUBLIC
DTSTAMP:20260421T133542Z
END:VEVENT
END:VCALENDAR