BEGIN:VCALENDAR
VERSION:2.0
PRODID:JMS Hockey
X-PUBLISHED-TTL:P1W
BEGIN:VEVENT
UID:69e7c6ffc6e65
DTSTART:20120411T020000Z
SEQUENCE:0
TRANSP:OPAQUE
DTEND:20120411T033000Z
URL:http://jmshockey.com/games/3781
LOCATION:Fogerty Icehouse
SUMMARY:Upper Level Game at Fogerty Icehouse
CLASS:PUBLIC
DTSTAMP:20260421T135039Z
END:VEVENT
END:VCALENDAR