BEGIN:VCALENDAR
VERSION:2.0
PRODID:JMS Hockey
X-PUBLISHED-TTL:P1W
BEGIN:VEVENT
UID:69e79a03c1291
DTSTART:20120324T020000Z
SEQUENCE:0
TRANSP:OPAQUE
DTEND:20120324T033000Z
URL:http://jmshockey.com/games/3776
LOCATION:Eden Prairie Comm Ctr
SUMMARY:Level 2 Game at Eden Prairie Comm Ctr
CLASS:PUBLIC
DTSTAMP:20260421T103843Z
END:VEVENT
END:VCALENDAR