BEGIN:VCALENDAR
VERSION:2.0
PRODID:JMS Hockey
X-PUBLISHED-TTL:P1W
BEGIN:VEVENT
UID:69e7c6a1a7bc8
DTSTART:20120303T031500Z
SEQUENCE:0
TRANSP:OPAQUE
DTEND:20120303T044500Z
URL:http://jmshockey.com/games/3773
LOCATION:Eden Prairie Comm Ctr
SUMMARY:Level 2 Game at Eden Prairie Comm Ctr
CLASS:PUBLIC
DTSTAMP:20260421T134905Z
END:VEVENT
END:VCALENDAR