BEGIN:VCALENDAR
VERSION:2.0
PRODID:JMS Hockey
X-PUBLISHED-TTL:P1W
BEGIN:VEVENT
UID:69e7cb2a16a8d
DTSTART:20120626T023000Z
SEQUENCE:0
TRANSP:OPAQUE
DTEND:20120626T040000Z
URL:http://jmshockey.com/games/3770
LOCATION:Breck Anderson Arena
SUMMARY:Level 3 Game at Breck Anderson Arena
CLASS:PUBLIC
DTSTAMP:20260421T140826Z
END:VEVENT
END:VCALENDAR