BEGIN:VCALENDAR
VERSION:2.0
PRODID:JMS Hockey
X-PUBLISHED-TTL:P1W
BEGIN:VEVENT
UID:69e7c6a17aad1
DTSTART:20120501T023000Z
SEQUENCE:0
TRANSP:OPAQUE
DTEND:20120501T040000Z
URL:http://jmshockey.com/games/3765
LOCATION:Breck Anderson Arena
SUMMARY: Game at Breck Anderson Arena
CLASS:PUBLIC
DTSTAMP:20260421T134905Z
END:VEVENT
END:VCALENDAR