BEGIN:VCALENDAR
VERSION:2.0
PRODID:JMS Hockey
X-PUBLISHED-TTL:P1W
BEGIN:VEVENT
UID:69e7b105776b1
DTSTART:20120214T033000Z
SEQUENCE:0
TRANSP:OPAQUE
DTEND:20120214T050000Z
URL:http://jmshockey.com/games/3761
LOCATION:Northeast Arena
SUMMARY:Level 1 Game at Northeast Arena
CLASS:PUBLIC
DTSTAMP:20260421T121653Z
END:VEVENT
END:VCALENDAR