BEGIN:VCALENDAR
VERSION:2.0
PRODID:JMS Hockey
X-PUBLISHED-TTL:P1W
BEGIN:VEVENT
UID:69e7ba24b4e67
DTSTART:20120316T021500Z
SEQUENCE:0
TRANSP:OPAQUE
DTEND:20120316T034500Z
URL:http://jmshockey.com/games/3756
LOCATION:New Hope Ice Arena
SUMMARY:Level 5 Game at New Hope Ice Arena
CLASS:PUBLIC
DTSTAMP:20260421T125548Z
END:VEVENT
END:VCALENDAR