BEGIN:VCALENDAR
VERSION:2.0
PRODID:JMS Hockey
X-PUBLISHED-TTL:P1W
BEGIN:VEVENT
UID:69e7d88e21743
DTSTART:20120210T033000Z
SEQUENCE:0
TRANSP:OPAQUE
DTEND:20120210T050000Z
URL:http://jmshockey.com/games/3751
LOCATION:New Hope Ice Arena
SUMMARY:Level 5 Game at New Hope Ice Arena
CLASS:PUBLIC
DTSTAMP:20260421T150534Z
END:VEVENT
END:VCALENDAR