BEGIN:VCALENDAR
VERSION:2.0
PRODID:JMS Hockey
X-PUBLISHED-TTL:P1W
BEGIN:VEVENT
UID:69e7d88e3280a
DTSTART:20120203T034500Z
SEQUENCE:0
TRANSP:OPAQUE
DTEND:20120203T051500Z
URL:http://jmshockey.com/games/3750
LOCATION:New Hope Ice Arena
SUMMARY:Level 5 Game at New Hope Ice Arena
CLASS:PUBLIC
DTSTAMP:20260421T150534Z
END:VEVENT
END:VCALENDAR