BEGIN:VCALENDAR
VERSION:2.0
PRODID:JMS Hockey
X-PUBLISHED-TTL:P1W
BEGIN:VEVENT
UID:69e7d82cab2a2
DTSTART:20120127T033000Z
SEQUENCE:0
TRANSP:OPAQUE
DTEND:20120127T050000Z
URL:http://jmshockey.com/games/3748
LOCATION:New Hope Ice Arena
SUMMARY:Level 5 Game at New Hope Ice Arena
CLASS:PUBLIC
DTSTAMP:20260421T150356Z
END:VEVENT
END:VCALENDAR