BEGIN:VCALENDAR
VERSION:2.0
PRODID:JMS Hockey
X-PUBLISHED-TTL:P1W
BEGIN:VEVENT
UID:69e7c700c6f1a
DTSTART:20120221T021500Z
SEQUENCE:0
TRANSP:OPAQUE
DTEND:20120221T034500Z
URL:http://jmshockey.com/games/3744
LOCATION:Northeast Arena
SUMMARY:Level 1 Game at Northeast Arena
CLASS:PUBLIC
DTSTAMP:20260421T135040Z
END:VEVENT
END:VCALENDAR