BEGIN:VCALENDAR
VERSION:2.0
PRODID:JMS Hockey
X-PUBLISHED-TTL:P1W
BEGIN:VEVENT
UID:69e7c6e4ec866
DTSTART:20120214T033000Z
SEQUENCE:0
TRANSP:OPAQUE
DTEND:20120214T050000Z
URL:http://jmshockey.com/games/3743
LOCATION:Northeast Arena
SUMMARY: Game at Northeast Arena
CLASS:PUBLIC
DTSTAMP:20260421T135012Z
END:VEVENT
END:VCALENDAR