BEGIN:VCALENDAR
VERSION:2.0
PRODID:JMS Hockey
X-PUBLISHED-TTL:P1W
BEGIN:VEVENT
UID:69e7c35720572
DTSTART:20120106T021500Z
SEQUENCE:0
TRANSP:OPAQUE
DTEND:20120106T031500Z
URL:http://jmshockey.com/games/3735
LOCATION:Parade Ice Gardens
SUMMARY:Lower Level Game at Parade Ice Gardens
CLASS:PUBLIC
DTSTAMP:20260421T133503Z
END:VEVENT
END:VCALENDAR