BEGIN:VCALENDAR
VERSION:2.0
PRODID:JMS Hockey
X-PUBLISHED-TTL:P1W
BEGIN:VEVENT
UID:69e7d47cec194
DTSTART:20120102T230000Z
SEQUENCE:0
TRANSP:OPAQUE
DTEND:20120103T000000Z
URL:http://jmshockey.com/games/3733
LOCATION:Xcel Energy Center
SUMMARY:Lower Level Game at Xcel Energy Center
CLASS:PUBLIC
DTSTAMP:20260421T144812Z
END:VEVENT
END:VCALENDAR