BEGIN:VCALENDAR
VERSION:2.0
PRODID:JMS Hockey
X-PUBLISHED-TTL:P1W
BEGIN:VEVENT
UID:69e7cca221ae2
DTSTART:20120105T040000Z
SEQUENCE:0
TRANSP:OPAQUE
DTEND:20120105T053000Z
URL:http://jmshockey.com/games/3732
LOCATION:Minnehaha Academy
SUMMARY:All level Game at Minnehaha Academy
CLASS:PUBLIC
DTSTAMP:20260421T141442Z
END:VEVENT
END:VCALENDAR