BEGIN:VCALENDAR
VERSION:2.0
PRODID:JMS Hockey
X-PUBLISHED-TTL:P1W
BEGIN:VEVENT
UID:69e7c9043bda0
DTSTART:20120303T023000Z
SEQUENCE:0
TRANSP:OPAQUE
DTEND:20120303T040000Z
URL:http://jmshockey.com/games/3727
LOCATION:St Louis Park Rec Center
SUMMARY:Level 1 Game at St Louis Park Rec Center
CLASS:PUBLIC
DTSTAMP:20260421T135916Z
END:VEVENT
END:VCALENDAR