BEGIN:VCALENDAR
VERSION:2.0
PRODID:JMS Hockey
X-PUBLISHED-TTL:P1W
BEGIN:VEVENT
UID:69e7d499b9fa3
DTSTART:20120211T023000Z
SEQUENCE:0
TRANSP:OPAQUE
DTEND:20120211T040000Z
URL:http://jmshockey.com/games/3721
LOCATION:St Louis Park Rec Center
SUMMARY:Level 1 Game at St Louis Park Rec Center
CLASS:PUBLIC
DTSTAMP:20260421T144841Z
END:VEVENT
END:VCALENDAR