BEGIN:VCALENDAR
VERSION:2.0
PRODID:JMS Hockey
X-PUBLISHED-TTL:P1W
BEGIN:VEVENT
UID:69e7dda30a2f3
DTSTART:20120128T031500Z
SEQUENCE:0
TRANSP:OPAQUE
DTEND:20120128T044500Z
URL:http://jmshockey.com/games/3716
LOCATION:St Louis Park Rec Center
SUMMARY:Level 1 Game at St Louis Park Rec Center
CLASS:PUBLIC
DTSTAMP:20260421T152715Z
END:VEVENT
END:VCALENDAR