BEGIN:VCALENDAR
VERSION:2.0
PRODID:JMS Hockey
X-PUBLISHED-TTL:P1W
BEGIN:VEVENT
UID:69e7b9e22c927
DTSTART:20120107T023000Z
SEQUENCE:0
TRANSP:OPAQUE
DTEND:20120107T040000Z
URL:http://jmshockey.com/games/3710
LOCATION:St Louis Park Rec Center
SUMMARY:Level 1 Game at St Louis Park Rec Center
CLASS:PUBLIC
DTSTAMP:20260421T125442Z
END:VEVENT
END:VCALENDAR