BEGIN:VCALENDAR
VERSION:2.0
PRODID:JMS Hockey
X-PUBLISHED-TTL:P1W
BEGIN:VEVENT
UID:69e7a308067af
DTSTART:20111231T023000Z
SEQUENCE:0
TRANSP:OPAQUE
DTEND:20111231T040000Z
URL:http://jmshockey.com/games/3697
LOCATION:St Louis Park Rec Center
SUMMARY:Level 1 Game at St Louis Park Rec Center
CLASS:PUBLIC
DTSTAMP:20260421T111712Z
END:VEVENT
END:VCALENDAR