BEGIN:VCALENDAR
VERSION:2.0
PRODID:JMS Hockey
X-PUBLISHED-TTL:P1W
BEGIN:VEVENT
UID:69e7bf8d6aae6
DTSTART:20111230T035000Z
SEQUENCE:0
TRANSP:OPAQUE
DTEND:20111230T052000Z
URL:http://jmshockey.com/games/3692
LOCATION:St Thomas Ice Arena
SUMMARY:All level Game at St Thomas Ice Arena
CLASS:PUBLIC
DTSTAMP:20260421T131853Z
END:VEVENT
END:VCALENDAR